BEGIN:VCALENDAR
VERSION:2.0
X-WR-CALNAME: Upcoming shows
PRODID:GIGPRESS 2.0 WORDPRESS PLUGIN
CALSCALE:GREGORIAN
X-WR-TIMEZONE:Etc/GMT
METHOD:PUBLISH
BEGIN:VTIMEZONE
TZID:GMT
BEGIN:STANDARD
DTSTART:20071028T010000
TZOFFSETTO:+0000
TZOFFSETFROM:+0000
END:STANDARD
END:VTIMEZONE
BEGIN:VEVENT
SUMMARY:Niah & Allisha Merrill at Camp Calvary
DESCRIPTION:Tour: 2026 Tour. Notes: Leading worship and mini concert for couples retreat. 
LOCATION:Camp Calvary\, 48 New Schaefferstown Road\, Bernville\, US
UID:20260424-1017-niahmerrill@gmail.com
URL:http://www.niahallisha.com/?page_id=3200
DTSTART;VALUE=DATE;TZID=GMT:20260424
DTEND;VALUE=DATE;TZID=GMT:20260426
DTSTAMP:20260423T031008Z
END:VEVENT
BEGIN:VEVENT
SUMMARY:Niah & Allisha Merrill at Preaching Christ Church
DESCRIPTION:Tour: 2026 Tour. Notes: Worship Concert 
LOCATION:Preaching Christ Church\, 707 East Sullivan Street\, Kingsport\, US
UID:20260517T093000Z-1049-niahmerrill@gmail.com
URL:http://www.niahallisha.com/?page_id=3200
DTSTART;VALUE=DATE-TIME;TZID=GMT:20260517T093000Z
DTEND;VALUE=DATE-TIME;TZID=GMT:20260517T093000Z
DTSTAMP:20260423T031008Z
END:VEVENT
BEGIN:VEVENT
SUMMARY:Niah & Allisha Merrill at Preaching Christ Church
DESCRIPTION:Tour: 2026 Tour. Notes: Worship Concert 
LOCATION:Preaching Christ Church\, 707 East Sullivan Street\, Kingsport\, US
UID:20260517T110000Z-1050-niahmerrill@gmail.com
URL:http://www.niahallisha.com/?page_id=3200
DTSTART;VALUE=DATE-TIME;TZID=GMT:20260517T110000Z
DTEND;VALUE=DATE-TIME;TZID=GMT:20260517T110000Z
DTSTAMP:20260423T031008Z
END:VEVENT
BEGIN:VEVENT
SUMMARY:Niah & Allisha Merrill at Richard Blackaby Seminar - The Billy Graham Training Center at The Cove
DESCRIPTION:Tour: 2026 Tour. Box office: (828) 771-4800. Notes: Leading worship and special music for Dr. Richard Blackaby's Seminar--"Experiencing God in Everyday Life: A Journey Toward Spiritual Maturity" 
LOCATION:Richard Blackaby Seminar - The Billy Graham Training Center at The Cove\, 1 Porters Cove Road\, Asheville\, US
UID:20260518-1046-niahmerrill@gmail.com
URL:http://www.niahallisha.com/?page_id=3200
DTSTART;VALUE=DATE;TZID=GMT:20260518
DTEND;VALUE=DATE;TZID=GMT:20260521
DTSTAMP:20260423T031008Z
END:VEVENT
BEGIN:VEVENT
SUMMARY:Niah & Allisha Merrill at First Baptist Church
DESCRIPTION:Tour: 2026 Tour. Notes: Luncheon starts at 11:30 a.m. and the concert follows. 
LOCATION:First Baptist Church\, 121 Monroe White Street\, Fort Mill\, US
UID:20260617T113000Z-1076-niahmerrill@gmail.com
URL:http://www.niahallisha.com/?page_id=3200
DTSTART;VALUE=DATE-TIME;TZID=GMT:20260617T113000Z
DTEND;VALUE=DATE-TIME;TZID=GMT:20260617T113000Z
DTSTAMP:20260423T031008Z
END:VEVENT
BEGIN:VEVENT
SUMMARY:Niah & Allisha Merrill at Thomas Road Baptist Church
DESCRIPTION:Tour: 2026 Tour. Notes: Concert and Luncheon 
LOCATION:Thomas Road Baptist Church\, 1 Mountain View Road\, Lynchburg\, US
UID:20260625T100000Z-1018-niahmerrill@gmail.com
URL:http://www.niahallisha.com/?page_id=3200
DTSTART;VALUE=DATE-TIME;TZID=GMT:20260625T100000Z
DTEND;VALUE=DATE-TIME;TZID=GMT:20260625T100000Z
DTSTAMP:20260423T031008Z
END:VEVENT
BEGIN:VEVENT
SUMMARY:Niah & Allisha Merrill at Riverview Baptist Church
DESCRIPTION:Tour: 2026 Tour. Notes: Concert 
LOCATION:Riverview Baptist Church\, 1722 Florida Avenue\, Woodbridge\, US
UID:20260628T103000Z-1067-niahmerrill@gmail.com
URL:http://www.niahallisha.com/?page_id=3200
DTSTART;VALUE=DATE-TIME;TZID=GMT:20260628T103000Z
DTEND;VALUE=DATE-TIME;TZID=GMT:20260628T103000Z
DTSTAMP:20260423T031008Z
END:VEVENT
BEGIN:VEVENT
SUMMARY:Niah & Allisha Merrill at Faith Baptist Church
DESCRIPTION:Tour: 2026 Tour. Notes: Concert 
LOCATION:Faith Baptist Church\, 1528 U.S. 9\, Toms River\, US
UID:20260710T190000Z-1059-niahmerrill@gmail.com
URL:http://www.niahallisha.com/?page_id=3200
DTSTART;VALUE=DATE-TIME;TZID=GMT:20260710T190000Z
DTEND;VALUE=DATE-TIME;TZID=GMT:20260710T190000Z
DTSTAMP:20260423T031008Z
END:VEVENT
BEGIN:VEVENT
SUMMARY:Niah & Allisha Merrill at Jackson Street Baptist Church
DESCRIPTION:Tour: 2026 Tour. Notes: Concert 
LOCATION:Jackson Street Baptist Church\, 1206 Jackson Street\, Scranton\, US
UID:20260712T100000Z-1039-niahmerrill@gmail.com
URL:http://www.niahallisha.com/?page_id=3200
DTSTART;VALUE=DATE-TIME;TZID=GMT:20260712T100000Z
DTEND;VALUE=DATE-TIME;TZID=GMT:20260712T100000Z
DTSTAMP:20260423T031008Z
END:VEVENT
BEGIN:VEVENT
SUMMARY:Niah & Allisha Merrill at America's Keswick Christian Retreat & Conference Center
DESCRIPTION:Tour: 2026 Tour. Notes: Leading worship and special music for Family Conference with Rev. Chris McCarrick and Rev. Chris Durkin. 
LOCATION:America's Keswick Christian Retreat & Conference Center\, 601 Route 530\, Whiting\, US
UID:20260712-1035-niahmerrill@gmail.com
URL:http://www.niahallisha.com/?page_id=3200
DTSTART;VALUE=DATE;TZID=GMT:20260712
DTEND;VALUE=DATE;TZID=GMT:20260718
DTSTAMP:20260423T031008Z
END:VEVENT
BEGIN:VEVENT
SUMMARY:Niah & Allisha Merrill at Sacandaga Bible Conference
DESCRIPTION:Tour: 2026 Tour. Notes: Concert at 7:00 p.m. Ticketed dinner starts at 5:00 p.m. 
LOCATION:Sacandaga Bible Conference\, 191 Lakeview Road\, Broadalbin\, US
UID:20260718T190000Z-1064-niahmerrill@gmail.com
URL:http://www.niahallisha.com/?page_id=3200
DTSTART;VALUE=DATE-TIME;TZID=GMT:20260718T190000Z
DTEND;VALUE=DATE-TIME;TZID=GMT:20260718T190000Z
DTSTAMP:20260423T031008Z
END:VEVENT
BEGIN:VEVENT
SUMMARY:Niah & Allisha Merrill at America's Keswick Christian Retreat & Conference Center
DESCRIPTION:Tour: 2026 Tour. Notes: Leading worship and special music for Family Conference with Dr. Dave Ridder and Rev. Frank Cirone. 
LOCATION:America's Keswick Christian Retreat & Conference Center\, 601 Route 530\, Whiting\, US
UID:20260719-1026-niahmerrill@gmail.com
URL:http://www.niahallisha.com/?page_id=3200
DTSTART;VALUE=DATE;TZID=GMT:20260719
DTEND;VALUE=DATE;TZID=GMT:20260725
DTSTAMP:20260423T031008Z
END:VEVENT
BEGIN:VEVENT
SUMMARY:Niah & Allisha Merrill at Pemberton First Baptist Church
DESCRIPTION:Tour: 2026 Tour. Notes: Concert 
LOCATION:Pemberton First Baptist Church\, 59 Hanover Street\, Pemberton\, US
UID:20260726T110000Z-1034-niahmerrill@gmail.com
URL:http://www.niahallisha.com/?page_id=3200
DTSTART;VALUE=DATE-TIME;TZID=GMT:20260726T110000Z
DTEND;VALUE=DATE-TIME;TZID=GMT:20260726T110000Z
DTSTAMP:20260423T031008Z
END:VEVENT
BEGIN:VEVENT
SUMMARY:Niah & Allisha Merrill at America's Keswick Christian Retreat & Conference Center
DESCRIPTION:Tour: 2026 Tour. Notes: Leading worship and special music for Family Conference with Dr. Jamie Mitchell and Dr. Ray Pritchard 
LOCATION:America's Keswick Christian Retreat & Conference Center\, 601 Route 530\, Whiting\, US
UID:20260726-1027-niahmerrill@gmail.com
URL:http://www.niahallisha.com/?page_id=3200
DTSTART;VALUE=DATE;TZID=GMT:20260726
DTEND;VALUE=DATE;TZID=GMT:20260801
DTSTAMP:20260423T031008Z
END:VEVENT
BEGIN:VEVENT
SUMMARY:Niah & Allisha Merrill at Odosagih Bible Conference
DESCRIPTION:Tour: 2026 Tour. Notes: Concert 
LOCATION:Odosagih Bible Conference\, 3204 Hazelmere Avenue\, Machias\, US
UID:20260801T183000Z-1025-niahmerrill@gmail.com
URL:http://www.niahallisha.com/?page_id=3200
DTSTART;VALUE=DATE-TIME;TZID=GMT:20260801T183000Z
DTEND;VALUE=DATE-TIME;TZID=GMT:20260801T183000Z
DTSTAMP:20260423T031008Z
END:VEVENT
BEGIN:VEVENT
SUMMARY:Niah & Allisha Merrill at First Baptist Church
DESCRIPTION:Tour: 2026 Tour. Notes: Hymn Sing starts at 6:30 p.m. and Concert follows at 7:00 p.m. 
LOCATION:First Baptist Church\, 26 E. Church Street\, Niles\, US
UID:20260807T183000Z-1053-niahmerrill@gmail.com
URL:http://www.niahallisha.com/?page_id=3200
DTSTART;VALUE=DATE-TIME;TZID=GMT:20260807T183000Z
DTEND;VALUE=DATE-TIME;TZID=GMT:20260807T183000Z
DTSTAMP:20260423T031008Z
END:VEVENT
BEGIN:VEVENT
SUMMARY:Niah & Allisha Merrill at Lindale Baptist Church
DESCRIPTION:Tour: 2026 Tour. Notes: Concert 
LOCATION:Lindale Baptist Church\, 3052 State Route 132\, Amelia\, US
UID:20260816T110000Z-1061-niahmerrill@gmail.com
URL:http://www.niahallisha.com/?page_id=3200
DTSTART;VALUE=DATE-TIME;TZID=GMT:20260816T110000Z
DTEND;VALUE=DATE-TIME;TZID=GMT:20260816T110000Z
DTSTAMP:20260423T031008Z
END:VEVENT
BEGIN:VEVENT
SUMMARY:Niah & Allisha Merrill at Mishawaka Grace Brethren Church
DESCRIPTION:Tour: 2026 Tour. Notes: Concert 
LOCATION:Mishawaka Grace Brethren Church\, 1715 Day Road\, Mishawaka\, US
UID:20260830T103000Z-1068-niahmerrill@gmail.com
URL:http://www.niahallisha.com/?page_id=3200
DTSTART;VALUE=DATE-TIME;TZID=GMT:20260830T103000Z
DTEND;VALUE=DATE-TIME;TZID=GMT:20260830T103000Z
DTSTAMP:20260423T031008Z
END:VEVENT
BEGIN:VEVENT
SUMMARY:Niah & Allisha Merrill at Riverview Community Church
DESCRIPTION:Tour: 2026 Tour. Notes: Concert 
LOCATION:Riverview Community Church\, 3780 East State Road 110\, Tippecanoe\, US
UID:20260830T180000Z-1055-niahmerrill@gmail.com
URL:http://www.niahallisha.com/?page_id=3200
DTSTART;VALUE=DATE-TIME;TZID=GMT:20260830T180000Z
DTEND;VALUE=DATE-TIME;TZID=GMT:20260830T180000Z
DTSTAMP:20260423T031008Z
END:VEVENT
BEGIN:VEVENT
SUMMARY:Niah & Allisha Merrill at Maple Ridge Bible Church
DESCRIPTION:Tour: 2026 Tour. Notes: Dinner served beginning at 5:00 p.m. Concert begins at 7:00 p.m. 
LOCATION:Maple Ridge Bible Church\, 43955 County Road East\, Boscobel\, US
UID:20260912T190000Z-1057-niahmerrill@gmail.com
URL:http://www.niahallisha.com/?page_id=3200
DTSTART;VALUE=DATE-TIME;TZID=GMT:20260912T190000Z
DTEND;VALUE=DATE-TIME;TZID=GMT:20260912T190000Z
DTSTAMP:20260423T031008Z
END:VEVENT
BEGIN:VEVENT
SUMMARY:Niah & Allisha Merrill at First Baptist Church
DESCRIPTION:Tour: 2026 Tour. Notes: Concert 
LOCATION:First Baptist Church\, 614 Rossville Road\, Waukon\, US
UID:20260913-1058-niahmerrill@gmail.com
URL:http://www.niahallisha.com/?page_id=3200
DTSTART;VALUE=DATE;TZID=GMT:20260913
DTEND;VALUE=DATE;TZID=GMT:20260913
DTSTAMP:20260423T031008Z
END:VEVENT
BEGIN:VEVENT
SUMMARY:Niah & Allisha Merrill at Chip Ingram Seminar at The Billy Graham Training Center at The Cove
DESCRIPTION:Tour: 2026 Tour. Box office: (828) 771-4800. Notes: Leading worship and special music for Chip Ingram's Seminar--"Your Divine Design: How to Discover\, Develop\, and Deploy Your Spiritual Gifts" 
LOCATION:Chip Ingram Seminar at The Billy Graham Training Center at The Cove\, 1 Porters Cove Road\, Asheville\, US
UID:20260918-1047-niahmerrill@gmail.com
URL:http://www.niahallisha.com/?page_id=3200
DTSTART;VALUE=DATE;TZID=GMT:20260918
DTEND;VALUE=DATE;TZID=GMT:20260921
DTSTAMP:20260423T031008Z
END:VEVENT
BEGIN:VEVENT
SUMMARY:Niah & Allisha Merrill at Wycliffe Associates Summit
DESCRIPTION:Tour: 2026 Tour. Notes: Private Event 
LOCATION:Wycliffe Associates Summit\, Carlsbad\, US
UID:20260924-1040-niahmerrill@gmail.com
URL:http://www.niahallisha.com/?page_id=3200
DTSTART;VALUE=DATE;TZID=GMT:20260924
DTEND;VALUE=DATE;TZID=GMT:20260928
DTSTAMP:20260423T031008Z
END:VEVENT
BEGIN:VEVENT
SUMMARY:Niah & Allisha Merrill at Erwin Lutzer Seminar at The Billy Graham Training Center at The Cove
DESCRIPTION:Tour: 2026 Tour. Box office: (828) 771-4800. Notes: Leading worship and special music for Dr. Erwin Lutzer's Seminar--"Resurrection\, Rewards\, and Regrets" 
LOCATION:Erwin Lutzer Seminar at The Billy Graham Training Center at The Cove\, 1 Porters Cove Road\, Asheville\, US
UID:20261007-1048-niahmerrill@gmail.com
URL:http://www.niahallisha.com/?page_id=3200
DTSTART;VALUE=DATE;TZID=GMT:20261007
DTEND;VALUE=DATE;TZID=GMT:20261010
DTSTAMP:20260423T031008Z
END:VEVENT
BEGIN:VEVENT
SUMMARY:Niah & Allisha Merrill at Fairview Baptist Church
DESCRIPTION:Tour: 2026 Tour. Notes: Concert 
LOCATION:Fairview Baptist Church\, 4511 Danville Roadd SW\, Decatur\, US
UID:20261011-1060-niahmerrill@gmail.com
URL:http://www.niahallisha.com/?page_id=3200
DTSTART;VALUE=DATE;TZID=GMT:20261011
DTEND;VALUE=DATE;TZID=GMT:20261011
DTSTAMP:20260423T031008Z
END:VEVENT
BEGIN:VEVENT
SUMMARY:Niah & Allisha Merrill at Wycliffe Associates Summit
DESCRIPTION:Tour: 2026 Tour. Notes: Private Event 
LOCATION:Wycliffe Associates Summit\, Bonita Springs\, US
UID:20261029-1041-niahmerrill@gmail.com
URL:http://www.niahallisha.com/?page_id=3200
DTSTART;VALUE=DATE;TZID=GMT:20261029
DTEND;VALUE=DATE;TZID=GMT:20261102
DTSTAMP:20260423T031008Z
END:VEVENT
BEGIN:VEVENT
SUMMARY:Niah & Allisha Merrill at Lakes Church - Downtown Campus
DESCRIPTION:Tour: 2026 Tour. Notes: Concert and luncheon 
LOCATION:Lakes Church - Downtown Campus\, 1010 East Memorial Boulevard\, Lakeland\, US
UID:20261110T103000Z-1033-niahmerrill@gmail.com
URL:http://www.niahallisha.com/?page_id=3200
DTSTART;VALUE=DATE-TIME;TZID=GMT:20261110T103000Z
DTEND;VALUE=DATE-TIME;TZID=GMT:20261110T103000Z
DTSTAMP:20260423T031008Z
END:VEVENT
BEGIN:VEVENT
SUMMARY:Niah & Allisha Merrill at First Baptist Church of Elyria
DESCRIPTION:Tour: 2026 Tour. Notes: Christmas Concert 
LOCATION:First Baptist Church of Elyria\, 11400 Lagrange Road\, Elyria\, US
UID:20261206-1019-niahmerrill@gmail.com
URL:http://www.niahallisha.com/?page_id=3200
DTSTART;VALUE=DATE;TZID=GMT:20261206
DTEND;VALUE=DATE;TZID=GMT:20261206
DTSTAMP:20260423T031008Z
END:VEVENT
BEGIN:VEVENT
SUMMARY:Niah & Allisha Merrill at The Homes of Ethnos 360
DESCRIPTION:Tour: 2027 Tour. Notes: Concert 
LOCATION:The Homes of Ethnos 360\, 108 Missions Boulevard\, Sanford\, US
UID:20270119T190000Z-1069-niahmerrill@gmail.com
URL:http://www.niahallisha.com/?page_id=3200
DTSTART;VALUE=DATE-TIME;TZID=GMT:20270119T190000Z
DTEND;VALUE=DATE-TIME;TZID=GMT:20270119T190000Z
DTSTAMP:20260423T031008Z
END:VEVENT
BEGIN:VEVENT
SUMMARY:Niah & Allisha Merrill at North Jacksonville Baptist Church
DESCRIPTION:Tour: 2027 Tour. Notes: Concert and Luncheon 
LOCATION:North Jacksonville Baptist Church\, 8531 N Main Street\, Jacksonville\, US
UID:20270208T100000Z-1072-niahmerrill@gmail.com
URL:http://www.niahallisha.com/?page_id=3200
DTSTART;VALUE=DATE-TIME;TZID=GMT:20270208T100000Z
DTEND;VALUE=DATE-TIME;TZID=GMT:20270208T100000Z
DTSTAMP:20260423T031008Z
END:VEVENT
BEGIN:VEVENT
SUMMARY:Niah & Allisha Merrill at il Villaggio
DESCRIPTION:Tour: 2027 Tour. Notes: Concert 
LOCATION:il Villaggio\, 1200 Aurora Boulevard\, Bradenton\, US
UID:20270219T092000Z-1070-niahmerrill@gmail.com
URL:http://www.niahallisha.com/?page_id=3200
DTSTART;VALUE=DATE-TIME;TZID=GMT:20270219T092000Z
DTEND;VALUE=DATE-TIME;TZID=GMT:20270219T092000Z
DTSTAMP:20260423T031008Z
END:VEVENT
BEGIN:VEVENT
SUMMARY:Niah & Allisha Merrill at Northside Baptist Church
DESCRIPTION:Tour: 2027 Tour. Notes: Concert 
LOCATION:Northside Baptist Church\, 6000 38th Avenue North\, Saint Petersburg\, US
UID:20270225T091500Z-1071-niahmerrill@gmail.com
URL:http://www.niahallisha.com/?page_id=3200
DTSTART;VALUE=DATE-TIME;TZID=GMT:20270225T091500Z
DTEND;VALUE=DATE-TIME;TZID=GMT:20270225T091500Z
DTSTAMP:20260423T031008Z
END:VEVENT
BEGIN:VEVENT
SUMMARY:Niah & Allisha Merrill at Volusia County Baptist Church
DESCRIPTION:Tour: 2027 Tour. Notes: Special music for youth event 
LOCATION:Volusia County Baptist Church\, 261 S. Orange Ave.\, Orange City\, US
UID:20270305-1073-niahmerrill@gmail.com
URL:http://www.niahallisha.com/?page_id=3200
DTSTART;VALUE=DATE;TZID=GMT:20270305
DTEND;VALUE=DATE;TZID=GMT:20270305
DTSTAMP:20260423T031008Z
END:VEVENT
BEGIN:VEVENT
SUMMARY:Niah & Allisha Merrill at Southwest Baptist Church
DESCRIPTION:Tour: 2027 Tour. Notes: Concert for Anniversary Sunday Celebration 
LOCATION:Southwest Baptist Church\, 16940 McGregor Boulevard\, Fort Myers\, US
UID:20270307T103000Z-1074-niahmerrill@gmail.com
URL:http://www.niahallisha.com/?page_id=3200
DTSTART;VALUE=DATE-TIME;TZID=GMT:20270307T103000Z
DTEND;VALUE=DATE-TIME;TZID=GMT:20270307T103000Z
DTSTAMP:20260423T031008Z
END:VEVENT
BEGIN:VEVENT
SUMMARY:Niah & Allisha Merrill at Word of Life Fellowship
DESCRIPTION:Tour: 2027 Tour. Notes: Concert\; Speaker at 9:00 a.m. and concert follows at 10:30 a.m. 
LOCATION:Word of Life Fellowship\, 13001 Word of Life Drive\, Hudson\, US
UID:20270318T103000Z-1075-niahmerrill@gmail.com
URL:http://www.niahallisha.com/?page_id=3200
DTSTART;VALUE=DATE-TIME;TZID=GMT:20270318T103000Z
DTEND;VALUE=DATE-TIME;TZID=GMT:20270318T103000Z
DTSTAMP:20260423T031008Z
END:VEVENT
BEGIN:VEVENT
SUMMARY:Niah & Allisha Merrill at Word of Life - The President's Retreat
DESCRIPTION:Tour: 2027 Tour. Notes: Private Event 
LOCATION:Word of Life - The President's Retreat\, USA\, US
UID:20270319-1020-niahmerrill@gmail.com
URL:http://www.niahallisha.com/?page_id=3200
DTSTART;VALUE=DATE;TZID=GMT:20270319
DTEND;VALUE=DATE;TZID=GMT:20270322
DTSTAMP:20260423T031008Z
END:VEVENT
BEGIN:VEVENT
SUMMARY:Niah & Allisha Merrill at Wycliffe Associates Summit
DESCRIPTION:Tour: 2027 Tour. Notes: Private Event 
LOCATION:Wycliffe Associates Summit\, Scottsdale\, US
UID:20270429-1038-niahmerrill@gmail.com
URL:http://www.niahallisha.com/?page_id=3200
DTSTART;VALUE=DATE;TZID=GMT:20270429
DTEND;VALUE=DATE;TZID=GMT:20270503
DTSTAMP:20260423T031008Z
END:VEVENT
BEGIN:VEVENT
SUMMARY:Niah & Allisha Merrill at Calvary Baptist Church
DESCRIPTION:Tour: 2028 Tour. Notes: Concert 
LOCATION:Calvary Baptist Church\, 4209 Old Kathleen Road\, Lakeland\, US
UID:20280312T173000Z-1066-niahmerrill@gmail.com
URL:http://www.niahallisha.com/?page_id=3200
DTSTART;VALUE=DATE-TIME;TZID=GMT:20280312T173000Z
DTEND;VALUE=DATE-TIME;TZID=GMT:20280312T173000Z
DTSTAMP:20260423T031008Z
END:VEVENT
END:VCALENDAR